BEGIN:VCALENDAR
VERSION:2.0
PRODID:-//OmniMagnetCalendar//EN
BEGIN:VEVENT
DTSTAMP:20190625T195740Z
STATUS:CONFIRMED
UID:hcrhodeisland.clubs.harvard.edu448
DTSTART:20260516T133000Z
DTEND:20260516T180000Z
LOCATION:The Elms - Main Entrance, 367 Bellevue Avenue, Newport, RI, 02840,
SUMMARY:A classic day in Newport - The Elms, Carriage House Luncheon, Cliff Walk Stroll
DESCRIPTION:Join local alums for a classic Newport spring day. Enjoy the opulent Gilded Age design of the Gilded Age of The Elms, luncheon at The Carriage House, and a stroll along the Cliff Walk, before the tourists really show up!
BEGIN:VALARM
TRIGGER:-PT15M
ACTION:DISPLAY
END:VALARM
TRANSP:OPAQUE
END:VEVENT
END:VCALENDAR
