BEGIN:VCALENDAR
VERSION:2.0
PRODID:-//OmniMagnetCalendar//EN
BEGIN:VEVENT
DTSTAMP:20190625T195740Z
STATUS:CONFIRMED
UID:hcrhodeisland.clubs.harvard.edu425
DTSTART:20250329T170000Z
DTEND:20250329T190000Z
LOCATION:Stevenson-Pincence Field, 235 Hope Street, Providence, RI, 02906,
SUMMARY:Harvard @ Brown Women’s Lacrosse
DESCRIPTION:Come watch the Crimson Women’s Lacrosse team take on the Brown Bears @ 1pm. Buy your own ticket using our discount code and sit behind the Harvard bench. Remember to wear Crimson!
BEGIN:VALARM
TRIGGER:-PT15M
ACTION:DISPLAY
END:VALARM
TRANSP:OPAQUE
END:VEVENT
END:VCALENDAR
