BEGIN:VCALENDAR
VERSION:2.0
PRODID:-//OmniMagnetCalendar//EN
BEGIN:VEVENT
DTSTAMP:20190625T195740Z
STATUS:CONFIRMED
UID:hcrhodeisland.clubs.harvard.edu415
DTSTART:20250126T200000Z
DTEND:20250126T220000Z
LOCATION:Paul's Apartment Building, One Park Row West, Providence, Rhode Island, 02906,
SUMMARY:First HCRI Recent Grads Book Club of 2025
DESCRIPTION:Come one come all to the 1st Harvard Club Book Club of 2025! We are reading The Fraud by Zadie Smith. Paul will have some beverages and snacks, but feel free to bring something to share. Also come ready to pitch a book to read for February! 
BEGIN:VALARM
TRIGGER:-PT15M
ACTION:DISPLAY
END:VALARM
TRANSP:OPAQUE
END:VEVENT
END:VCALENDAR
