BEGIN:VCALENDAR
VERSION:2.0
PRODID:-//OmniMagnetCalendar//EN
BEGIN:VEVENT
DTSTAMP:20190625T195740Z
STATUS:CONFIRMED
UID:hcrhodeisland.clubs.harvard.edu414
DTSTART:20250122T233000Z
DTEND:20250123T013000Z
LOCATION:The Contemporary Theatre, 327 Main Street, South Kingstown, RI, 02879, USA,
SUMMARY:An evening with New York Times bestselling author Lisa Genova, PhD'98
DESCRIPTION:We’re thrilled to partner with Reading with Robin to invite you to an inspiring event featuring Lisa Genova—New York Times bestselling author, neuroscientist, speaker, and empathy advocate. Don’t miss the chance to hear Lisa’s incredible story!
BEGIN:VALARM
TRIGGER:-PT15M
ACTION:DISPLAY
END:VALARM
TRANSP:OPAQUE
END:VEVENT
END:VCALENDAR
