BEGIN:VCALENDAR
VERSION:2.0
PRODID:-//OmniMagnetCalendar//EN
BEGIN:VEVENT
DTSTAMP:20190625T195740Z
STATUS:CONFIRMED
UID:hcrhodeisland.clubs.harvard.edu411
DTSTART:20241021T224500Z
DTEND:20241022T000000Z
LOCATION:Virtual event - link to be emailed to those that register,
SUMMARY:Breaking Insights: Game-Changing U.S. Presidential Race - Groundbreaking Analysis and Critical Poll
DESCRIPTION:The Harvard Kennedy School Association of New England welcomes HCRI members to join an impressive expert panel for this just-in-time preview of the evolution of American politics.
BEGIN:VALARM
TRIGGER:-PT15M
ACTION:DISPLAY
END:VALARM
TRANSP:OPAQUE
END:VEVENT
END:VCALENDAR
