BEGIN:VCALENDAR
VERSION:2.0
PRODID:-//OmniMagnetCalendar//EN
BEGIN:VEVENT
DTSTAMP:20190625T195740Z
STATUS:CONFIRMED
UID:hcrhodeisland.clubs.harvard.edu407
DTSTART:20241027T200000Z
DTEND:20241027T220000Z
LOCATION:Paul's Apartment Building, One Park Row West, Providence, Rhode Island, 02906,
SUMMARY:HCRI Recent Grads Book Club - Halloween edition
DESCRIPTION:Enjoy an afternoon of great company, tea and treats, and a discussion of spooky stories from "The October Country" by Ray Bradbury, a collection of short stories Stephen King once described as “The Dubliners of American Gothic.”
BEGIN:VALARM
TRIGGER:-PT15M
ACTION:DISPLAY
END:VALARM
TRANSP:OPAQUE
END:VEVENT
END:VCALENDAR
