BEGIN:VCALENDAR
VERSION:2.0
PRODID:-//OmniMagnetCalendar//EN
BEGIN:VEVENT
DTSTAMP:20190625T195740Z
STATUS:CONFIRMED
UID:hcrhodeisland.clubs.harvard.edu404
DTSTART:20241026T160000Z
DTEND:20241026T190000Z
LOCATION:Harvard Stadium , 79 N Harvard Street, Allston, MAT,
SUMMARY:Harvard vs Princeton Football Potluck Tailgate
DESCRIPTION:Come create some Crimson cheer as the Crimson take on the Princeton Tigers at Harvard Stadium. Join our friends from the Harvard Club of Quincy for a casual potluck tailgate before the game.
BEGIN:VALARM
TRIGGER:-PT15M
ACTION:DISPLAY
END:VALARM
TRANSP:OPAQUE
END:VEVENT
END:VCALENDAR
