BEGIN:VCALENDAR
VERSION:2.0
PRODID:-//OmniMagnetCalendar//EN
BEGIN:VEVENT
DTSTAMP:20190625T195740Z
STATUS:CONFIRMED
UID:hcrhodeisland.clubs.harvard.edu399
DTSTART:20240911T213000Z
DTEND:20240911T233000Z
LOCATION:Narragansett Beer Brewery, 271 Tockwotton Street, Providence, RI, 02903, USA,
SUMMARY:Welcome to Your City - Young Alumni Happy Hour at Narragansett Brewing Company
DESCRIPTION:A fun, informal way for recent graduates to connect with each other and enjoy one of the best views of Providence Harbor. No charge to join in. Food and drinks available for purchase.
BEGIN:VALARM
TRIGGER:-PT15M
ACTION:DISPLAY
END:VALARM
TRANSP:OPAQUE
END:VEVENT
END:VCALENDAR
