BEGIN:VCALENDAR
VERSION:2.0
PRODID:-//OmniMagnetCalendar//EN
BEGIN:VEVENT
DTSTAMP:20190625T195740Z
STATUS:CONFIRMED
UID:hcrhodeisland.clubs.harvard.edu394
DTSTART:20240505T190000Z
DTEND:20240505T210000Z
LOCATION:The Club Room at Paul's Apartment Building, One Park Row West, Providence, Rhode Island, 02906,
SUMMARY:NEW HCRI Book Club for Young Alums - and the Young at Heart
DESCRIPTION:Enjoy an afternoon of great company and a discussion of Mike Gayle's "The Museum of Ordinary People" in downtown Providence.
BEGIN:VALARM
TRIGGER:-PT15M
ACTION:DISPLAY
END:VALARM
TRANSP:OPAQUE
END:VEVENT
END:VCALENDAR
