BEGIN:VCALENDAR
VERSION:2.0
PRODID:-//OmniMagnetCalendar//EN
BEGIN:VEVENT
DTSTAMP:20190625T195740Z
STATUS:CONFIRMED
UID:hcrhodeisland.clubs.harvard.edu391
DTSTART:20240406T140000Z
DTEND:20240406T140000Z
LOCATION:Wickford Town Wharf, 170 Main Street, Wickford, RI, 02852,
SUMMARY:Wickford History Walk - A Glimpse Into the Lives and Contributions of Wickford's Women
DESCRIPTION:Join North Kingstown historian Tim Cranston on a journey through time in Wickford where we will explore the stories of the important contributions of women to its long history.
BEGIN:VALARM
TRIGGER:-PT15M
ACTION:DISPLAY
END:VALARM
TRANSP:OPAQUE
END:VEVENT
END:VCALENDAR
