BEGIN:VCALENDAR
VERSION:2.0
PRODID:-//OmniMagnetCalendar//EN
BEGIN:VEVENT
DTSTAMP:20190625T195740Z
STATUS:CONFIRMED
UID:hcrhodeisland.clubs.harvard.edu350
DTSTART:20230106T220000Z
DTEND:20230107T030000Z
LOCATION:Andreas Restaurant, 268 Thayer St., Providence, Rhode Island, 02906, United States,
SUMMARY:Harvard @ Brown Men’s Basketball Game
DESCRIPTION: Join Harvard fans to cheer on the men's basketball team as they take on Brown! Meet fellow fans for a bite and drinks before the game at Andreas Restaurant. Kids are very welcome! Go Crimson!
BEGIN:VALARM
TRIGGER:-PT15M
ACTION:DISPLAY
END:VALARM
TRANSP:OPAQUE
END:VEVENT
END:VCALENDAR
