BEGIN:VCALENDAR
VERSION:2.0
PRODID:-//OmniMagnetCalendar//EN
BEGIN:VEVENT
DTSTAMP:20190625T195740Z
STATUS:CONFIRMED
UID:hcrhodeisland.clubs.harvard.edu338
DTSTART:20210314T220000Z
DTEND:20210314T233000Z
LOCATION:Virtual,
SUMMARY:"Pop" into Spring: Sparkling Wine Tasting via Zoom
DESCRIPTION:Let's toast to spring! Please join us online for wine tasting and sparkling conversation. Once again Raka Dutta will guide us through a delightful tasting while we enjoy each other from a distance. Bottles start pouring at 6PM.
BEGIN:VALARM
TRIGGER:-PT15M
ACTION:DISPLAY
END:VALARM
TRANSP:OPAQUE
END:VEVENT
END:VCALENDAR
