BEGIN:VCALENDAR
VERSION:2.0
PRODID:-//OmniMagnetCalendar//EN
BEGIN:VEVENT
DTSTAMP:20190625T195740Z
STATUS:CONFIRMED
UID:hcrhodeisland.clubs.harvard.edu329
DTSTART:20200422T160000Z
DTEND:20200423T173000Z
LOCATION:Social Enterprise Greenhouse, 10 Davol Square, 1st floor, Providence, RI, USA,
SUMMARY:POSTONED WITH DETAILS TBD ONCE THE WORLD IS SAFER - Harvard in our Community - Local Interest Lunch
DESCRIPTION:Join us at the Social Enterprise Greenhouse for an engaging conversation with Brown Professor, Katherine Mason PhD'11, about "COVID-19, SARS and Epidemic Control in China".
BEGIN:VALARM
TRIGGER:-PT15M
ACTION:DISPLAY
END:VALARM
TRANSP:OPAQUE
END:VEVENT
END:VCALENDAR
