BEGIN:VCALENDAR
VERSION:2.0
PRODID:-//OmniMagnetCalendar//EN
BEGIN:VEVENT
DTSTAMP:20190625T195740Z
STATUS:CONFIRMED
UID:hcrhodeisland.clubs.harvard.edu321
DTSTART:20200210T230000Z
DTEND:20200211T010000Z
LOCATION:Smith-Buonanno Hall , Brown University Pembroke Campus, 95 Cushing Street, Providence, RI, 02912,
SUMMARY:4th Annual World Affairs Panel: China's New Silk Road - Promise or Peril?
DESCRIPTION:Join us for a provocative and timely panel moderated by one of our own club members, Lyle Goldstein '94, with an impressive roster of local experts on US - China relations. Register now as we expect a sellout!
BEGIN:VALARM
TRIGGER:-PT15M
ACTION:DISPLAY
END:VALARM
TRANSP:OPAQUE
END:VEVENT
END:VCALENDAR
