BEGIN:VCALENDAR
VERSION:2.0
PRODID:-//OmniMagnetCalendar//EN
BEGIN:VEVENT
DTSTAMP:20190625T195740Z
STATUS:CONFIRMED
UID:hcrhodeisland.clubs.harvard.edu318
DTSTART:20191123T150000Z
DTEND:20191126T193000Z
LOCATION:Yale Bowl - Parking Lot A, Derby Ave, New Haven, CT,
SUMMARY:Harvard-Yale Football Brunch @ Yale Bowl
DESCRIPTION:Come to New Haven for the 136th Harvard-Yale game as we join the Harvard Club of Fairfield County's customary brunch in a prime location tent just outside the Yale Bowl.
BEGIN:VALARM
TRIGGER:-PT15M
ACTION:DISPLAY
END:VALARM
TRANSP:OPAQUE
END:VEVENT
END:VCALENDAR
