BEGIN:VCALENDAR
VERSION:2.0
PRODID:-//OmniMagnetCalendar//EN
BEGIN:VEVENT
DTSTAMP:20190625T195740Z
STATUS:CONFIRMED
UID:hcrhodeisland.clubs.harvard.edu317
DTSTART:20191027T200000Z
DTEND:20191027T220000Z
LOCATION:The Pavillion at Grace Episcopal Church, 300 Westmister Street, Providence, RI, 02903,
SUMMARY:Community Music Works  Fundraising Concert & Reception
DESCRIPTION:The Brown & Harvard Clubs of Rhode Island co-sponsor a Community MusicWorks (CMW) chamber music concert and reception.  All proceeds from the event will benefit CMW programming.  Reception to follow the show with the performers.
BEGIN:VALARM
TRIGGER:-PT15M
ACTION:DISPLAY
END:VALARM
TRANSP:OPAQUE
END:VEVENT
END:VCALENDAR
