BEGIN:VCALENDAR
VERSION:2.0
PRODID:-//OmniMagnetCalendar//EN
BEGIN:VEVENT
DTSTAMP:20190625T195740Z
STATUS:CONFIRMED
UID:hcrhodeisland.clubs.harvard.edu315
DTSTART:20200208T213000Z
DTEND:20200211T010000Z
LOCATION:Andreas Restaurant, 268 Thayer St., Providence, Rhode Island, 02906, United States,
SUMMARY:Harvard @ Brown Men’s Basketball Game - NOTE THIS IS NOW GAME ONLY
DESCRIPTION:Join fellow Harvard fans to cheer on the men's basketball team as they take on Brown! 
BEGIN:VALARM
TRIGGER:-PT15M
ACTION:DISPLAY
END:VALARM
TRANSP:OPAQUE
END:VEVENT
END:VCALENDAR
