BEGIN:VCALENDAR
VERSION:2.0
PRODID:-//OmniMagnetCalendar//EN
BEGIN:VEVENT
DTSTAMP:20190625T195740Z
STATUS:CONFIRMED
UID:hcrhodeisland.clubs.harvard.edu309
DTSTART:20191116T000000Z
DTEND:20191116T023000Z
LOCATION:Providence, RI, 02906,
SUMMARY:Harvard @ Brown Men’s Ice Hockey
DESCRIPTION:Come watch the Harvard Crimson Men’s Ice Hockey team take on the Brown Bears @ 7pm. Buy your own ticket in behind the Harvard bench and we''ll pregame at Andreas
BEGIN:VALARM
TRIGGER:-PT15M
ACTION:DISPLAY
END:VALARM
TRANSP:OPAQUE
END:VEVENT
END:VCALENDAR
