BEGIN:VCALENDAR
VERSION:2.0
PRODID:-//OmniMagnetCalendar//EN
BEGIN:VEVENT
DTSTAMP:20190625T195740Z
STATUS:CONFIRMED
UID:hcrhodeisland.clubs.harvard.edu306
DTSTART:20200513T213000Z
DTEND:20200514T000000Z
LOCATION:Agawam Hunt, 15 Roger Williams Ave, Rumford, RI, 02135,
SUMMARY:POSTONED WITH DETAILS TBD ONCE THE WORLD IS SAFER - Annual Meeting of the HCRI
DESCRIPTION:Our 2020 annual meeting & dinner will be held on Wednesday May 13th from 5:30PM with a special guest speaker TBD
BEGIN:VALARM
TRIGGER:-PT15M
ACTION:DISPLAY
END:VALARM
TRANSP:OPAQUE
END:VEVENT
END:VCALENDAR
