BEGIN:VCALENDAR
VERSION:2.0
PRODID:-//OmniMagnetCalendar//EN
BEGIN:VEVENT
DTSTAMP:20190625T195740Z
STATUS:CONFIRMED
UID:hcrhodeisland.clubs.harvard.edu303
DTSTART:20211021T213000Z
DTEND:20211022T000000Z
LOCATION:Narragansett Brewery, 271 Tockwotton St., Providence, RI, 02903, USA,
SUMMARY:Welcome to Your City - Young Alumni Social on the patio at the Narragansett Brewery in Providence
DESCRIPTION:The Classes of 2011-2021 will be coming together for a fun, informal way for recent graduates who may be new to town to connect with other local, recent Harvard alumni.
BEGIN:VALARM
TRIGGER:-PT15M
ACTION:DISPLAY
END:VALARM
TRANSP:OPAQUE
END:VEVENT
END:VCALENDAR
