BEGIN:VCALENDAR
VERSION:2.0
PRODID:-//OmniMagnetCalendar//EN
BEGIN:VEVENT
DTSTAMP:20190625T195740Z
STATUS:CONFIRMED
UID:hcrhodeisland.clubs.harvard.edu296
DTSTART:20190303T000000Z
DTEND:20190303T020000Z
LOCATION:Providence Jewish Community Center, 401 Elmgrove Ave., Providence, RI, 02906,
SUMMARY:Harvard and Brown Improv Performances
DESCRIPTION:Join us and our friends from the Brown Club for an evening of comedy, featuring Harvard’s premier improv troupe Immediate Gratification Players and Brown’s troupe IMPROVidence. Reception to follow the show with the student performers!
BEGIN:VALARM
TRIGGER:-PT15M
ACTION:DISPLAY
END:VALARM
TRANSP:OPAQUE
END:VEVENT
END:VCALENDAR
