BEGIN:VCALENDAR
VERSION:2.0
PRODID:-//OmniMagnetCalendar//EN
BEGIN:VEVENT
DTSTAMP:20190625T195740Z
STATUS:CONFIRMED
UID:hcrhodeisland.clubs.harvard.edu286
DTSTART:20181111T000000Z
DTEND:20170219T000000Z
LOCATION:Meehan Auditorium, Providence, RI, 02906,
SUMMARY:Harvard @ Brown Men’s Ice Hockey
DESCRIPTION:Come watch the Harvard Crimson Men’s Ice Hockey team take on the Brown Bears @ 7pm.
BEGIN:VALARM
TRIGGER:-PT15M
ACTION:DISPLAY
END:VALARM
TRANSP:OPAQUE
END:VEVENT
END:VCALENDAR
