BEGIN:VCALENDAR
VERSION:2.0
PRODID:-//OmniMagnetCalendar//EN
BEGIN:VEVENT
DTSTAMP:20190625T195740Z
STATUS:CONFIRMED
UID:hcrhodeisland.clubs.harvard.edu259
DTSTART:20180127T213000Z
DTEND:20180128T020000Z
LOCATION:Flatbread Pizza Company, 161 Cushing Street, Providence, Rhode Island, 02906, United States,
SUMMARY:Harvard @ Brown Men’s Basketball with Harvard A.D. Bob Scalise
DESCRIPTION:Come cheer on Harvard Men’s Basketball with a pregame pizza and conversation with Harvard Athletic Director Bob Scalise. Proceeds benefit Ben Abercrombie, the first year Harvard football player tragically injured during last September's game at URI.
BEGIN:VALARM
TRIGGER:-PT15M
ACTION:DISPLAY
END:VALARM
TRANSP:OPAQUE
END:VEVENT
END:VCALENDAR
