BEGIN:VCALENDAR
VERSION:2.0
PRODID:-//OmniMagnetCalendar//EN
BEGIN:VEVENT
DTSTAMP:20190625T195740Z
STATUS:CONFIRMED
UID:hcrhodeisland.clubs.harvard.edu241
DTSTART:20170226T190000Z
DTEND:20170226T190000Z
LOCATION:Private home to be announced, Providence, RI, 02906,
SUMMARY:HCRI All Levels Social Bridge Group
DESCRIPTION:Some new members of the HCRI are experienced bridge coaches and have offered to coordinate a fun and inexpensive way to socialize and enjoy the spirit of this great game. All levels welcome!!!
BEGIN:VALARM
TRIGGER:-PT15M
ACTION:DISPLAY
END:VALARM
TRANSP:OPAQUE
END:VEVENT
END:VCALENDAR
