BEGIN:VCALENDAR
VERSION:2.0
PRODID:-//OmniMagnetCalendar//EN
BEGIN:VEVENT
DTSTAMP:20190625T195740Z
STATUS:CONFIRMED
UID:hcrhodeisland.clubs.harvard.edu237
DTSTART:20170708T190000Z
DTEND:20170709T000000Z
LOCATION:Newport International Polo Grounds at Glen Farm, 250 Linden Lane, Portsmouth, RI, 02871,
SUMMARY:All Ivy Newport Polo & Tailgate Picnic @ Glen Farms in Portsmouth
DESCRIPTION:The  popular all-Ivy Newport Polo Tailgate & Potluck Picnic will hit the field Saturday, July 8.  Local Ivy clubs will cheer on Team Newport USA and Team Italy. Special visit with Team Italy player Marco Elser '81.
BEGIN:VALARM
TRIGGER:-PT15M
ACTION:DISPLAY
END:VALARM
TRANSP:OPAQUE
END:VEVENT
END:VCALENDAR
