BEGIN:VCALENDAR
VERSION:2.0
PRODID:-//OmniMagnetCalendar//EN
BEGIN:VEVENT
DTSTAMP:20190625T195740Z
STATUS:CONFIRMED
UID:hcrhodeisland.clubs.harvard.edu235
DTSTART:20170612T220000Z
DTEND:20170112T020000Z
LOCATION:The Whiskey Republic, 15 Bridge Street, Providence, RI, 02903, USA,
SUMMARY:Global Networking Night
DESCRIPTION:GNN is a great opportunity to expand your Harvard network. This biannual event brings alumni together in cities around the world to network in fun, relaxed settings. Join us to enjoy the company and sunset views on Whisky Republic's outdoor patio.
BEGIN:VALARM
TRIGGER:-PT15M
ACTION:DISPLAY
END:VALARM
TRANSP:OPAQUE
END:VEVENT
END:VCALENDAR
